    BEGIN:VCALENDAR
VERSION:2.0
PRODID:-//Eglise Croix Rousse - ECPv6.15.20//NONSGML v1.0//EN
CALSCALE:GREGORIAN
METHOD:PUBLISH
X-WR-CALNAME:Eglise Croix Rousse
X-ORIGINAL-URL:https://www.eglisecroixrousse.com
X-WR-CALDESC:Évènements pour Eglise Croix Rousse
REFRESH-INTERVAL;VALUE=DURATION:PT1H
X-Robots-Tag:noindex
X-PUBLISHED-TTL:PT1H
BEGIN:VTIMEZONE
TZID:Europe/Paris
BEGIN:DAYLIGHT
TZOFFSETFROM:+0100
TZOFFSETTO:+0200
TZNAME:CEST
DTSTART:20250330T010000
END:DAYLIGHT
BEGIN:STANDARD
TZOFFSETFROM:+0200
TZOFFSETTO:+0100
TZNAME:CET
DTSTART:20251026T010000
END:STANDARD
BEGIN:DAYLIGHT
TZOFFSETFROM:+0100
TZOFFSETTO:+0200
TZNAME:CEST
DTSTART:20260329T010000
END:DAYLIGHT
BEGIN:STANDARD
TZOFFSETFROM:+0200
TZOFFSETTO:+0100
TZNAME:CET
DTSTART:20261025T010000
END:STANDARD
BEGIN:DAYLIGHT
TZOFFSETFROM:+0100
TZOFFSETTO:+0200
TZNAME:CEST
DTSTART:20270328T010000
END:DAYLIGHT
BEGIN:STANDARD
TZOFFSETFROM:+0200
TZOFFSETTO:+0100
TZNAME:CET
DTSTART:20271031T010000
END:STANDARD
END:VTIMEZONE
BEGIN:VEVENT
DTSTART;TZID=Europe/Paris:20260612T190000
DTEND;TZID=Europe/Paris:20260612T220000
DTSTAMP:20260424T172234
CREATED:20250718T145258Z
LAST-MODIFIED:20250718T145258Z
UID:10000678-1781290800-1781301600@www.eglisecroixrousse.com
SUMMARY:Entre Hommes
DESCRIPTION:
URL:https://www.eglisecroixrousse.com/event/entre-hommes-4/
LOCATION:Au Bureau\, 41 Rue du Bon-Pasteur\, Lyon\, 69001\, France
CATEGORIES:Entre Hommes
ATTACH;FMTTYPE=image/jpeg:https://www.eglisecroixrousse.com/wp-content/uploads/2025/04/EntreHommes-scaled.jpg
END:VEVENT
END:VCALENDAR